BEGIN:VCALENDAR
VERSION:2.0
PRODID:-//Casa de Gracia - ECPv6.15.17//NONSGML v1.0//EN
CALSCALE:GREGORIAN
METHOD:PUBLISH
X-WR-CALNAME:Casa de Gracia
X-ORIGINAL-URL:https://casadegracia.net
X-WR-CALDESC:Eventos para Casa de Gracia
REFRESH-INTERVAL;VALUE=DURATION:PT1H
X-Robots-Tag:noindex
X-PUBLISHED-TTL:PT1H
BEGIN:VTIMEZONE
TZID:America/Los_Angeles
BEGIN:DAYLIGHT
TZOFFSETFROM:-0800
TZOFFSETTO:-0700
TZNAME:PDT
DTSTART:20250309T100000
END:DAYLIGHT
BEGIN:STANDARD
TZOFFSETFROM:-0700
TZOFFSETTO:-0800
TZNAME:PST
DTSTART:20251102T090000
END:STANDARD
BEGIN:DAYLIGHT
TZOFFSETFROM:-0800
TZOFFSETTO:-0700
TZNAME:PDT
DTSTART:20260308T100000
END:DAYLIGHT
BEGIN:STANDARD
TZOFFSETFROM:-0700
TZOFFSETTO:-0800
TZNAME:PST
DTSTART:20261101T090000
END:STANDARD
BEGIN:DAYLIGHT
TZOFFSETFROM:-0800
TZOFFSETTO:-0700
TZNAME:PDT
DTSTART:20270314T100000
END:DAYLIGHT
BEGIN:STANDARD
TZOFFSETFROM:-0700
TZOFFSETTO:-0800
TZNAME:PST
DTSTART:20271107T090000
END:STANDARD
END:VTIMEZONE
BEGIN:VEVENT
DTSTART;TZID=America/Los_Angeles:20260426T110000
DTEND;TZID=America/Los_Angeles:20260426T110000
DTSTAMP:20260413T063746
CREATED:20260301T065935Z
LAST-MODIFIED:20260301T065936Z
UID:5748-1777201200-1777201200@casadegracia.net
SUMMARY:Dedicación de Bebés
DESCRIPTION:En Casa de Gracia\, dedicación de bebes es recordar que nuestros hijos no son nuestros\, le pertenecen a Dios\, por lo tanto yo como padre me comprometo a vivir una vida ejemplar donde mis hijos pueden aprender a caminar con Dios. \nSi usted gusta dedicar a su bebé puede registrarlo por medio de este enlace:REGISTRATE AQUÍ
URL:https://casadegracia.net/evento/dedicacion-de-bebes-7/
LOCATION:Casa de Gracia\, 16931 South Park Ave\, South Holland\, Illinois\, Estados Unidos
END:VEVENT
END:VCALENDAR